BEGIN:VCALENDAR
VERSION:2.0
PRODID:-//Tukios.com/
BEGIN:VEVENT
UID:ed8b5707-3e18-4af7-8a32-026a02375e60@www.wolniakfuneralhome.com
DTSTAMP:20260422T020652Z
DTSTART:20260426T200000Z
DTEND:20260427T010000Z
SUMMARY:Visitation
DESCRIPTION:
URL:https://www.wolniakfuneralhome.com/obituaries/jose-torres-valencia
LOCATION: 5700 S Pulaski Rd  Chicago IL 60629
GEO:41.7894193;-87.72338
END:VEVENT
END:VCALENDAR