BEGIN:VCALENDAR
VERSION:2.0
PRODID:-//Tukios.com/
BEGIN:VEVENT
UID:8dd5e386-2497-47db-90a7-17ecf45c9722@www.wolniakfuneralhome.com
DTSTAMP:20260421T190842Z
DTSTART:20260424T123000Z
DTEND:20260424T133000Z
SUMMARY:Chapel Prayers
DESCRIPTION:
URL:https://www.wolniakfuneralhome.com/obituaries/socorro-terrazas
LOCATION: 5700 S Pulaski Rd  Chicago IL 60629
GEO:41.7894193;-87.72338
END:VEVENT
END:VCALENDAR