BEGIN:VCALENDAR
VERSION:2.0
PRODID:-//Tukios.com/
BEGIN:VEVENT
UID:c65e8fa0-e3a2-4a16-bdeb-ea23a1a75b23@www.wolniakfuneralhome.com
DTSTAMP:20260421T190628Z
DTSTART:20260424T140000Z
DTEND:20260424T150000Z
SUMMARY:Mass
DESCRIPTION:
URL:https://www.wolniakfuneralhome.com/obituaries/socorro-terrazas
LOCATION:St Pancratius Catholic Church (Our Lady Of Fatima-St Pancratius 
	Parish) 4025 S Sacramento Ave  Chicago IL 60632
GEO:41.8196485;-87.6991709
END:VEVENT
END:VCALENDAR