BEGIN:VCALENDAR
VERSION:2.0
PRODID:-//Tukios.com/
BEGIN:VEVENT
UID:1af749f7-6a6f-4139-b2a5-68627e7aef48@www.wolniakfuneralhome.com
DTSTAMP:20260421T190039Z
DTSTART:20260424
SUMMARY:Burial
DESCRIPTION:
URL:https://www.wolniakfuneralhome.com/obituaries/socorro-terrazas
LOCATION: 4401 W 111th St  Chicago IL 60655
GEO:41.6872943;-87.7308057
END:VEVENT
END:VCALENDAR